BEGIN:VCALENDAR
VERSION:2.0
PRODID:-//Gesundheitsregion - ECPv6.15.20//NONSGML v1.0//EN
CALSCALE:GREGORIAN
METHOD:PUBLISH
X-ORIGINAL-URL:https://gesundheitsregion.hameln-pyrmont.de
X-WR-CALDESC:Veranstaltungen für Gesundheitsregion
REFRESH-INTERVAL;VALUE=DURATION:PT1H
X-Robots-Tag:noindex
X-PUBLISHED-TTL:PT1H
BEGIN:VTIMEZONE
TZID:Europe/Berlin
BEGIN:DAYLIGHT
TZOFFSETFROM:+0100
TZOFFSETTO:+0200
TZNAME:CEST
DTSTART:20250330T010000
END:DAYLIGHT
BEGIN:STANDARD
TZOFFSETFROM:+0200
TZOFFSETTO:+0100
TZNAME:CET
DTSTART:20251026T010000
END:STANDARD
BEGIN:DAYLIGHT
TZOFFSETFROM:+0100
TZOFFSETTO:+0200
TZNAME:CEST
DTSTART:20260329T010000
END:DAYLIGHT
BEGIN:STANDARD
TZOFFSETFROM:+0200
TZOFFSETTO:+0100
TZNAME:CET
DTSTART:20261025T010000
END:STANDARD
BEGIN:DAYLIGHT
TZOFFSETFROM:+0100
TZOFFSETTO:+0200
TZNAME:CEST
DTSTART:20270328T010000
END:DAYLIGHT
BEGIN:STANDARD
TZOFFSETFROM:+0200
TZOFFSETTO:+0100
TZNAME:CET
DTSTART:20271031T010000
END:STANDARD
END:VTIMEZONE
BEGIN:VEVENT
DTSTART;TZID=Europe/Berlin:20260319T150000
DTEND;TZID=Europe/Berlin:20260319T180000
DTSTAMP:20260420T102249
CREATED:20260105T073105Z
LAST-MODIFIED:20260218T130941Z
UID:8060-1773932400-1773943200@gesundheitsregion.hameln-pyrmont.de
SUMMARY:Tag des Gesundheitsamtes 2026 unter dem Motto Vielfalt für Gesundheit
DESCRIPTION:So vielfältig wie Herkunft\, Kultur\, Alter und Alltag der Menschen in unserem Landkreis sind\, ist auch ihr persönliches Verständnis von Gesundheit. Diese Vielfalt spiegelt sich auch in der täglichen Arbeit unseres Gesundheitsamtes wider. Um diese Arbeit sichtbar und erlebbar zu machen\, öffnet das Gesundheitsamt am Nachmittag des 19. März 2026 im Rahmen des Tags des Gesundheitsamtes seine Türen. Unter dem Motto Vielfalt für Gesundheit sind alle Interessierten herzlich eingeladen\, mit uns auf Entdeckungsreise zu gehen.\nUnser Gesundheitsamt arbeitet jeden Tag daran\, für alle Menschen ein gesundes Lebensumfeld zu schaffen – ganz gleich\, wie alt sie sind\, woher sie kommen oder welche Herausforderungen sie mitbringen. Am Aktionstag zeigen wir\, wie breit unsere Aufgaben wirklich sind: von Infektionsschutz und Umweltgesundheit über Prävention und Beratung bis hin zur Unterstützung in schwierigen Lebenslagen. Vielfalt bedeutet für uns\, auf unterschiedliche Bedürfnisse einzugehen und dabei immer die Gesundheit aller im Blick zu behalten. \nBesucherinnen und Besucher erwartet ein abwechslungsreiches Angebot\nAn verschiedenen Informations- und Mitmachstationen können Sie erfahren\, wie wir vorbeugen\, schützen und unterstützen. Kleine Gesundheitschecks\, interaktive Aktionen für Groß und Klein und anschauliche Einblicke hinter die Kulissen machen deutlich\, wie viele Menschen und Fachbereiche gemeinsam daran arbeiten\, unseren Landkreis gesund zu halten. Die Teams stehen den ganzen Nachmittag über bereit\, um Fragen zu beantworten\, Wege durch das Hilfesystem aufzuzeigen und über Angebote zu informieren\, die im Alltag vielleicht weniger sichtbar sind\, aber unglaublich wichtig sein können. Wer schon immer wissen wollte\, wie Gesundheitsförderung praktisch aussieht\, was ein Hygienekontrolleur in seiner täglichen Arbeit macht oder welche Unterstützungsmöglichkeiten es\nfür Menschen mit besonderen gesundheitlichen Herausforderungen gibt\, hat an diesem Tag die perfekte Gelegenheit! \nWann? 15:00–18:00 Uhr\nWo? Gesundheitsamt Hameln-Pyrmont\, Hugenottenstr. 6 31785 Hameln \nDas Gesundheitsamt freut sich auf alle\, die neugierig sind\, ins Gespräch kommen möchten oder einfach Lust haben\, die bunte Vielfalt unserer Arbeit kennenzulernen.
URL:https://gesundheitsregion.hameln-pyrmont.de/event/tag-des-gesundheitsamtes-2026/
LOCATION:Gesundheitsamt Hameln-Pyrmont\, Hugenottenstraße 6\, Hameln\, 31785\, Deutschland
END:VEVENT
END:VCALENDAR