BEGIN:VCALENDAR
VERSION:2.0
PRODID:-//Gesundheitsregion - ECPv6.15.20//NONSGML v1.0//EN
CALSCALE:GREGORIAN
METHOD:PUBLISH
X-WR-CALNAME:Gesundheitsregion
X-ORIGINAL-URL:https://gesundheitsregion.hameln-pyrmont.de
X-WR-CALDESC:Veranstaltungen für Gesundheitsregion
REFRESH-INTERVAL;VALUE=DURATION:PT1H
X-Robots-Tag:noindex
X-PUBLISHED-TTL:PT1H
BEGIN:VTIMEZONE
TZID:Europe/Berlin
BEGIN:DAYLIGHT
TZOFFSETFROM:+0100
TZOFFSETTO:+0200
TZNAME:CEST
DTSTART:20250330T010000
END:DAYLIGHT
BEGIN:STANDARD
TZOFFSETFROM:+0200
TZOFFSETTO:+0100
TZNAME:CET
DTSTART:20251026T010000
END:STANDARD
BEGIN:DAYLIGHT
TZOFFSETFROM:+0100
TZOFFSETTO:+0200
TZNAME:CEST
DTSTART:20260329T010000
END:DAYLIGHT
BEGIN:STANDARD
TZOFFSETFROM:+0200
TZOFFSETTO:+0100
TZNAME:CET
DTSTART:20261025T010000
END:STANDARD
BEGIN:DAYLIGHT
TZOFFSETFROM:+0100
TZOFFSETTO:+0200
TZNAME:CEST
DTSTART:20270328T010000
END:DAYLIGHT
BEGIN:STANDARD
TZOFFSETFROM:+0200
TZOFFSETTO:+0100
TZNAME:CET
DTSTART:20271031T010000
END:STANDARD
END:VTIMEZONE
BEGIN:VEVENT
DTSTART;TZID=Europe/Berlin:20260901T083000
DTEND;TZID=Europe/Berlin:20260901T083000
DTSTAMP:20260420T115632
CREATED:20260305T155159Z
LAST-MODIFIED:20260306T071300Z
UID:8529-1788251400-1788251400@gesundheitsregion.hameln-pyrmont.de
SUMMARY:Qualifizierung zur DUO-Seniorenbegleitung im Ehrenamt
DESCRIPTION:Die VHS bietet die Fortbildung: Qualifizierung zur DUO-Seniorenbegleitung im Ehrenamt in Kooperation mit dem Senioren- und Pflegestützpunkt Hameln-Pyrmont und der Freiwilligen Akademie Niedersachsen an. \nAls ehrenamtliche DUO-Seniorenbegleitung unterstützen Sie ältere Menschen in ihrem Alltag und nehmen Anteil an deren Leben. Sie schenken Zeit zum Reden und Zuhören oder für gemeinsame Unternehmungen. Möglich ist auch die Begleitung zu Behörden und Ärzten oder die gemeinsame Erledigung von Einkäufen. \nInsgesamt umfasst die Fortbildung 30 Unterrichtsstunden in Theorie und 20 Stunden in Praxis. Die Fortbildung ist kostenlos.  \n\nStart: 01.09.2026 / 08:30 Uhr\nEnde: 06.10.2026 / 13:30 Uhr\n\nNähere Informationen erhalten sie bei: \nStefanie Huter / VHS \nTelefonnummer: 05151 – 948213 \nE-Mail: huter@vhs-hameln-pyrmont.de
URL:https://gesundheitsregion.hameln-pyrmont.de/event/qualifizierung-zur-duo-seniorenbegleitung-im-ehrenamt/
END:VEVENT
END:VCALENDAR